BEGIN:VCALENDAR
PRODID:NingEventWidget-v1
VERSION:2.0
METHOD:PUBLISH
BEGIN:VEVENT
UID:5170231:Event:187651
DTSTAMP:20260420T110358Z
SUMMARY:रंग-अबीर उत्सव-2012
DESCRIPTION:पावन पर्व होली के शुभ 
 वसर पर\n लाल कला ,सांस्कृति
  एवं सामाजिक चेतना मंच (रज
 ि.) ,\nशक्ति विहार बदरपुर,नई द
 िल्ली 110044\nकी ओर से  एक सरस का
 व्य गोष्ठी का आयोजन दिनांक
 -26/2/2012(रविवार) को दोपहर 3 बजे स
  संध्या 5 बजे तक\nअल्फा शैक्
 षणिक संस्थान,स्कूल रोड,मीठ
 ापुर,(नियर संतोषी, माता मंद
 र) के प्रांगण में आकाशवाणी
 ,दिल्ली के कार्यक्रम अधिका
 री(निदेशक प्रसार भारती) डा.
 रि सिंह पाल की अध्यक्षता म
 ें आयोजित किया जा रहा है। इ
 के संयोजक दिल्ली रत्न श्र
  लाल बिहारी लाल है। इस कार
 यक्रम में एन.सी.आर.एवं दिल्
 ली की दर्जनों कवि एवं कविय
 त्रियों की सहभागिता की मं
 ूरी मिल चुकी है। ओपेन बुक आ
 ँन लाइन  के एन.सी.आर एवं दिल
 ली के सभी कवियो एवं लेखक ब
 धुओं से अनुरोध है कि वे इस 
 त्सव में भाग में भाग ले सक
 े है.विस्तृत जानकारी एवं अ
 नी सहभागिता की सूचना देनं 
 के लिए संपर्क करें- \nश्री ल
 ाल बिहारी लाल संयोजक,फोनृ098
 68163073\n*नोट-इस अवसर पर हिन्दी द
 ैनिक विजय न्यूज का लोकार्प
 ण भी किया जायेगा।\n\nFor more information 
 visit http://www.openbooksonline.com/events/2012
DTSTART:20120226T093000Z
DTEND:20120226T123000Z
CATEGORIES:"होली", "मिलन-कवि", "एवं", "ल
 ेखको", "का"
LOCATION:स्कूल रोड मीठापुर,बदरप
 र,नई दिल्ली-44
WEBSITE:
URL:
CONTACT:09868163073
ORGANIZER;CN="Lal Bihari Gupta LAL":http://www.openbooksonline.com/pro
 file/LalBihariGuptaLAL
ATTACH;FMTTYPE="image/jpeg":
ATTENDEE;ROLE=REQ-PARTICIPANT;PARTSTAT=ACCEPTED;RSVP=TRUE;CN="Deepak S
 harma Kuluvi":http://www.openbooksonline.com/profile/DeepakKuluvi
ATTENDEE;ROLE=REQ-PARTICIPANT;PARTSTAT=ACCEPTED;RSVP=TRUE;CN="Lal Biha
 ri Gupta LAL":http://www.openbooksonline.com/profile/LalBihariGuptaLAL
END:VEVENT
END:VCALENDAR
